BEGIN:VCALENDAR
VERSION:2.0
PRODID:Events Booking
BEGIN:VEVENT
UID:69e87c1f2d5b0
SUMMARY:1 August 2024 - Women's Month Event
DESCRIPTION:
LOCATION:Virtual
DTSTART:20240801T070000Z
DTEND:20240801T110000Z
DTSTAMP:20240119T055129Z
ORGANIZER;CN=Transport Forum:MAILTO:info@transportsig.com
END:VEVENT
END:VCALENDAR