BEGIN:VCALENDAR
VERSION:2.0
PRODID:Events Booking
BEGIN:VEVENT
UID:69e92ba7936ae
SUMMARY:12 October 2023 - Public Transport: Quo Vadis
DESCRIPTION:
LOCATION:Setperk Road\, Randpark\, Randburg\, Johannesburg
DTSTART:20231012T070000Z
DTEND:20231012T133000Z
DTSTAMP:20230919T004613Z
ORGANIZER;CN=Transport Forum:MAILTO:info@transportsig.com
END:VEVENT
END:VCALENDAR