BEGIN:VCALENDAR
VERSION:2.0
PRODID:Events Booking
BEGIN:VEVENT
UID:69e950f222be7
SUMMARY:12th International Heavy Haul Conference\,  Rio de Janeiro\, Brazil
DESCRIPTION:
LOCATION:Brazil
DTSTART:20230827T060000Z
DTEND:20230831T150000Z
DTSTAMP:20230628T191845Z
ORGANIZER;CN=Transport Forum:MAILTO:info@transportsig.com
END:VEVENT
END:VCALENDAR