BEGIN:VCALENDAR
VERSION:2.0
PRODID:Events Booking
BEGIN:VEVENT
UID:69e93d077dae1
SUMMARY:14 September 2023 - Rail Roundtable
DESCRIPTION:
LOCATION:53 Bunting Rd\, Cottesloe\, Johannesburg\, 2092
DTSTART:20230914T070000Z
DTEND:20230914T110000Z
DTSTAMP:20230821T075823Z
ORGANIZER;CN=Transport Forum:MAILTO:info@transportsig.com
END:VEVENT
END:VCALENDAR