BEGIN:VCALENDAR
VERSION:2.0
PRODID:Events Booking
BEGIN:VEVENT
UID:69e8afd2cb9da
SUMMARY:16 May 2024 - Navigating the Challenges of Rail Industry Reform in 
 South Africa
DESCRIPTION:
LOCATION:Virtual
DTSTART:20240516T070000Z
DTEND:20240516T093500Z
DTSTAMP:20240119T053336Z
ORGANIZER;CN=Transport Forum:MAILTO:info@transportsig.com
END:VEVENT
END:VCALENDAR