BEGIN:VCALENDAR
VERSION:2.0
PRODID:Events Booking
BEGIN:VEVENT
UID:69e8d1debf18a
SUMMARY:18 March 2024 - Draft National Public Transport Subsidy Policy: Pub
 lic Participation
DESCRIPTION:
LOCATION:Virtual
DTSTART:20240318T070000Z
DTEND:20240318T100000Z
DTSTAMP:20240118T101510Z
ORGANIZER;CN=Transport Forum:MAILTO:info@transportsig.com
END:VEVENT
END:VCALENDAR