BEGIN:VCALENDAR
VERSION:2.0
PRODID:Events Booking
BEGIN:VEVENT
UID:69e91b633a2d0
SUMMARY:2 November 2023 - The New Era of Trade and Logistics: Challenges an
 d Opportunities
DESCRIPTION:
LOCATION:Virtual
DTSTART:20231102T070000Z
DTEND:20231102T103000Z
DTSTAMP:20231013T101507Z
ORGANIZER;CN=Transport Forum:MAILTO:info@transportsig.com
END:VEVENT
END:VCALENDAR