BEGIN:VCALENDAR
VERSION:2.0
PRODID:Events Booking
BEGIN:VEVENT
UID:69e8d3b449ebf
SUMMARY:20 March 2024 - ARIA - Online Open Public Session
DESCRIPTION:
LOCATION:Virtual
DTSTART:20240320T090000Z
DTEND:20240320T110000Z
DTSTAMP:20240314T125632Z
ORGANIZER;CN=Transport Forum:MAILTO:info@transportsig.com
END:VEVENT
END:VCALENDAR