BEGIN:VCALENDAR
VERSION:2.0
PRODID:Events Booking
BEGIN:VEVENT
UID:69e8b0a2339c1
SUMMARY:2024 ITF Summit Side Event on Digitalisation & Infratructure Financ
 e
DESCRIPTION:
LOCATION:CCL Hall 4
DTSTART:20240523T143000Z
DTEND:20240523T160000Z
DTSTAMP:20240517T143530Z
ORGANIZER;CN=Transport Forum:MAILTO:info@transportsig.com
END:VEVENT
END:VCALENDAR