BEGIN:VCALENDAR
VERSION:2.0
PRODID:Events Booking
BEGIN:VEVENT
UID:69e93ec562251
SUMMARY:21 September 2023 - Supporting South African Exports
DESCRIPTION:
LOCATION:Virtual
DTSTART:20230921T070000Z
DTEND:20230921T111500Z
DTSTAMP:20230822T073907Z
ORGANIZER;CN=Transport Forum:MAILTO:info@transportsig.com
END:VEVENT
END:VCALENDAR