BEGIN:VCALENDAR
VERSION:2.0
PRODID:Events Booking
BEGIN:VEVENT
UID:69e87b5503cc4
SUMMARY:22 August 2024 - RTMS Workshop
DESCRIPTION:
LOCATION:Meiring Naude Road\, Brummeria\, Pretoria
DTSTART:20240822T070000Z
DTEND:20240822T110000Z
DTSTAMP:20240119T061601Z
ORGANIZER;CN=Transport Forum:MAILTO:info@transportsig.com
END:VEVENT
END:VCALENDAR