BEGIN:VCALENDAR
VERSION:2.0
PRODID:Events Booking
BEGIN:VEVENT
UID:69e94f1782710
SUMMARY:23 August 2023 - The Practical Side of Data
DESCRIPTION:
DTSTART:20230823T070000Z
DTEND:20230823T101500Z
DTSTAMP:20230710T093822Z
ORGANIZER;CN=Transport Forum:MAILTO:info@transportsig.com
END:VEVENT
END:VCALENDAR