BEGIN:VCALENDAR
VERSION:2.0
PRODID:Events Booking
BEGIN:VEVENT
UID:69e8b0fd21f6e
SUMMARY:23 May 2024 - All Roads lead to Rail
DESCRIPTION:
LOCATION:Virtual
DTSTART:20240523T070000Z
DTEND:20240523T110000Z
DTSTAMP:20240119T053336Z
ORGANIZER;CN=Transport Forum:MAILTO:info@transportsig.com
END:VEVENT
END:VCALENDAR