BEGIN:VCALENDAR
VERSION:2.0
PRODID:Events Booking
BEGIN:VEVENT
UID:69e88b4523c75
SUMMARY:25 July 2024 - IPTN Implementation Progress
DESCRIPTION:
LOCATION:Virtual
DTSTART:20240725T070000Z
DTEND:20240725T110000Z
DTSTAMP:20240119T054515Z
ORGANIZER;CN=Transport Forum:MAILTO:info@transportsig.com
END:VEVENT
END:VCALENDAR