BEGIN:VCALENDAR
VERSION:2.0
PRODID:Events Booking
BEGIN:VEVENT
UID:69e8b0f1ecfc7
SUMMARY:25th Annual Road Traffic and Transport Legislation Workshop
DESCRIPTION:
LOCATION:Meiring Naude Road\, Brummeria\, Pretoria
DTSTART:20240523T060000Z
DTEND:20240523T150000Z
DTSTAMP:20240229T103608Z
ORGANIZER;CN=Transport Forum:MAILTO:info@transportsig.com
END:VEVENT
END:VCALENDAR