BEGIN:VCALENDAR
VERSION:2.0
PRODID:Events Booking
BEGIN:VEVENT
UID:69e8b0fd88f98
SUMMARY:25th Annual Road Traffic and Transport Legislation Workshop
DESCRIPTION:
LOCATION:Webinar
DTSTART:20240527T060000Z
DTEND:20240527T150000Z
DTSTAMP:20240229T103906Z
ORGANIZER;CN=Transport Forum:MAILTO:info@transportsig.com
END:VEVENT
END:VCALENDAR