BEGIN:VCALENDAR
VERSION:2.0
PRODID:Events Booking
BEGIN:VEVENT
UID:69e8b0b505b5f
SUMMARY:25th Annual Road Traffic and Transport Legislation Workshop
DESCRIPTION:
LOCATION:Stellenbosch - Protea Hote
DTSTART:20240514T060000Z
DTEND:20240514T150000Z
DTSTAMP:20240229T102540Z
ORGANIZER;CN=Transport Forum:MAILTO:info@transportsig.com
END:VEVENT
END:VCALENDAR