BEGIN:VCALENDAR
VERSION:2.0
PRODID:Events Booking
BEGIN:VEVENT
UID:69e89f5d983ae
SUMMARY:27 June 2024 - South African Civil Aviation Part 92 Dangerous Goods
  Regulations
DESCRIPTION:
LOCATION:Virtual
DTSTART:20240627T070000Z
DTEND:20240627T093500Z
DTSTAMP:20240119T054515Z
ORGANIZER;CN=Transport Forum:MAILTO:info@transportsig.com
END:VEVENT
END:VCALENDAR