BEGIN:VCALENDAR
VERSION:2.0
PRODID:Events Booking
BEGIN:VEVENT
UID:69e88e8e8bbb6
SUMMARY:2nd African Continental Free Trade Area (AfCFTA) Conference
DESCRIPTION:
LOCATION:ICC Durban
DTSTART:20240725T060000Z
DTEND:20240726T150000Z
DTSTAMP:20240614T162752Z
ORGANIZER;CN=Transport Forum:MAILTO:info@transportsig.com
END:VEVENT
END:VCALENDAR