BEGIN:VCALENDAR
VERSION:2.0
PRODID:Events Booking
BEGIN:VEVENT
UID:69e950e67225b
SUMMARY:30 August 2023 - Driving the Narrative for Efficient Port Logistics
DESCRIPTION:
LOCATION:1 Kingsmead Way\, Kingsmead\, Durban
DTSTART:20230830T070000Z
DTEND:20230830T110000Z
DTSTAMP:20230719T091552Z
ORGANIZER;CN=Transport Forum:MAILTO:info@transportsig.com
END:VEVENT
END:VCALENDAR