BEGIN:VCALENDAR
VERSION:2.0
PRODID:Events Booking
BEGIN:VEVENT
UID:69e9708464e7c
SUMMARY:30 June 2023 - Road Freight SME Summit
DESCRIPTION:
LOCATION:Virtual
DTSTART:20230630T080000Z
DTEND:20230630T100000Z
DTSTAMP:20230606T111607Z
ORGANIZER;CN=Transport Forum:MAILTO:info@transportsig.com
END:VEVENT
END:VCALENDAR