BEGIN:VCALENDAR
VERSION:2.0
PRODID:Events Booking
BEGIN:VEVENT
UID:69e950b09f258
SUMMARY:31 August 2023 - Smart City and Mobility
DESCRIPTION:
LOCATION:1 Kingsmead Way\, Kingsmead\, Durban
DTSTART:20230831T070000Z
DTEND:20230831T103000Z
DTSTAMP:20230719T100125Z
ORGANIZER;CN=Transport Forum:MAILTO:info@transportsig.com
END:VEVENT
END:VCALENDAR