BEGIN:VCALENDAR
VERSION:2.0
PRODID:Events Booking
BEGIN:VEVENT
UID:69e89d3002f01
SUMMARY:46th Annual SAPICS Conference 
DESCRIPTION:
LOCATION:Cape Town\, South Africa 
DTSTART:20240608T070000Z
DTEND:20240611T220000Z
DTSTAMP:20240529T101008Z
ORGANIZER;CN=Transport Forum:MAILTO:info@transportsig.com
END:VEVENT
END:VCALENDAR