BEGIN:VCALENDAR
VERSION:2.0
PRODID:Events Booking
BEGIN:VEVENT
UID:69e92a3975579
SUMMARY:Mega-T Expo 5-7 October 2023
DESCRIPTION:
LOCATION:Diamantvallei Landgoed showgrounds
DTSTART:20231005T080000Z
DTEND:20231007T140000Z
DTSTAMP:20230922T095337Z
ORGANIZER;CN=Transport Forum:MAILTO:info@transportsig.com
END:VEVENT
END:VCALENDAR