BEGIN:VCALENDAR
VERSION:2.0
PRODID:Events Booking
BEGIN:VEVENT
UID:69e90a667f56e
SUMMARY:5 December 2023 - Driving the narrative for closer collaboration in
  the Supply Chain
DESCRIPTION:
LOCATION:Estate 154 Corner 3Rd & 6Th Avenue\, Johannesburg\, Gauteng
DTSTART:20231205T060000Z
DTEND:20231205T121500Z
DTSTAMP:20231101T065520Z
ORGANIZER;CN=Transport Forum:MAILTO:info@transportsig.com
END:VEVENT
END:VCALENDAR