BEGIN:VCALENDAR
VERSION:2.0
PRODID:Events Booking
BEGIN:VEVENT
UID:69e86d06d8394
SUMMARY:5 September 2024 - National Truck Stop Framework
DESCRIPTION:
LOCATION:Virtual
DTSTART:20240905T080000Z
DTEND:20240905T093000Z
DTSTAMP:20240119T061601Z
ORGANIZER;CN=Transport Forum:MAILTO:info@transportsig.com
END:VEVENT
END:VCALENDAR