BEGIN:VCALENDAR
VERSION:2.0
PRODID:Events Booking
BEGIN:VEVENT
UID:69e96267d63f2
SUMMARY:6 July 2023 - The Safety and Security Challenges within the Supply 
 Chain
DESCRIPTION:
LOCATION:Virtual
DTSTART:20230706T070000Z
DTEND:20230706T103000Z
DTSTAMP:20230607T084644Z
ORGANIZER;CN=Transport Forum:MAILTO:info@transportsig.com
END:VEVENT
END:VCALENDAR