BEGIN:VCALENDAR
VERSION:2.0
PRODID:Events Booking
BEGIN:VEVENT
UID:69e89f356e2ce
SUMMARY:6 June 2024 - Public Passenger Road Based Transport in South Africa
  - Challenges and Opportunities
DESCRIPTION:
LOCATION:Virtual
DTSTART:20240606T070000Z
DTEND:20240606T110000Z
DTSTAMP:20240119T054515Z
ORGANIZER;CN=Transport Forum:MAILTO:info@transportsig.com
END:VEVENT
END:VCALENDAR