BEGIN:VCALENDAR
VERSION:2.0
PRODID:Events Booking
BEGIN:VEVENT
UID:69e87bcdce36b
SUMMARY:8 August 2024 - Introducing the National Logistics Crisis Committee
  (NLCC) Pulse Report
DESCRIPTION:
LOCATION:Virtual
DTSTART:20240808T070000Z
DTEND:20240808T120000Z
DTSTAMP:20240119T054515Z
ORGANIZER;CN=Transport Forum:MAILTO:info@transportsig.com
END:VEVENT
END:VCALENDAR