BEGIN:VCALENDAR
VERSION:2.0
PRODID:Events Booking
BEGIN:VEVENT
UID:69e8b03310054
SUMMARY:8 May 2024 - Stronger Together
DESCRIPTION:
LOCATION:2 Kikembe Drive\, Umhlanga Rocks\, Durban\, 4319 
DTSTART:20240508T070000Z
DTEND:20240508T120000Z
DTSTAMP:20240118T101510Z
ORGANIZER;CN=Transport Forum:MAILTO:info@transportsig.com
END:VEVENT
END:VCALENDAR