BEGIN:VCALENDAR
VERSION:2.0
PRODID:Events Booking
BEGIN:VEVENT
UID:69e87c1f33490
SUMMARY:ACA Sustainable Transport Hub Meeting
DESCRIPTION:
LOCATION:Virtual
DTSTART:20240822T070000Z
DTEND:20240822T090000Z
DTSTAMP:20240730T055938Z
ORGANIZER;CN=Transport Forum:MAILTO:info@transportsig.com
END:VEVENT
END:VCALENDAR