BEGIN:VCALENDAR
VERSION:2.0
PRODID:Events Booking
BEGIN:VEVENT
UID:69e9609c54d16
SUMMARY:Africa 50 gsm
DESCRIPTION:
LOCATION:Togo
DTSTART:20230703T060000Z
DTEND:20230704T140000Z
DTSTAMP:20230628T183946Z
ORGANIZER;CN=Transport Forum:MAILTO:info@transportsig.com
END:VEVENT
END:VCALENDAR