BEGIN:VCALENDAR
VERSION:2.0
PRODID:Events Booking
BEGIN:VEVENT
UID:69e848cb7ce25
SUMMARY:AFRICA MARITIME INVESTMENT INDABA
DESCRIPTION:
LOCATION: DURBAN ICC
DTSTART:20241106T050000Z
DTEND:20241108T150000Z
DTSTAMP:20240927T115212Z
ORGANIZER;CN=Transport Forum:MAILTO:info@transportsig.com
END:VEVENT
END:VCALENDAR