BEGIN:VCALENDAR
VERSION:2.0
PRODID:Events Booking
BEGIN:VEVENT
UID:69e89d68c3531
SUMMARY:Africa Rail expo
DESCRIPTION:
LOCATION:Sandton Convention Centre\, Johannesburg
DTSTART:20240625T060000Z
DTEND:20240626T150000Z
DTSTAMP:20240530T154928Z
ORGANIZER;CN=Transport Forum:MAILTO:info@transportsig.com
END:VEVENT
END:VCALENDAR