BEGIN:VCALENDAR
VERSION:2.0
PRODID:Events Booking
BEGIN:VEVENT
UID:69e8e90ceeee9
SUMMARY:Africa's Green Economy Summit
DESCRIPTION:
LOCATION:Cape Town\, South Africa 
DTSTART:20240221T060000Z
DTEND:20240222T220000Z
DTSTAMP:20240130T200632Z
ORGANIZER;CN=Transport Forum:MAILTO:info@transportsig.com
END:VEVENT
END:VCALENDAR