BEGIN:VCALENDAR
VERSION:2.0
PRODID:Events Booking
BEGIN:VEVENT
UID:69e8b13969a49
SUMMARY:ANNUAL ROAD TRAFFIC AND TRANSPORT LEGISLATION WORKSHOPS 2024
DESCRIPTION:
LOCATION:Umhalanga
DTSTART:20240514T060000Z
DTEND:20240514T140000Z
DTSTAMP:20231214T042247Z
ORGANIZER;CN=Transport Forum:MAILTO:info@transportsig.com
END:VEVENT
END:VCALENDAR