BEGIN:VCALENDAR
VERSION:2.0
PRODID:Events Booking
BEGIN:VEVENT
UID:69e8b139815fe
SUMMARY:ANNUAL ROAD TRAFFIC AND TRANSPORT LEGISLATION WORKSHOPS 2024
DESCRIPTION:SAVE THE DATE - ANNUAL ROAD TRAFFIC AND TRANSPORT LEGISLATION W
 ORKSHOPS 2024:
 (Bookings from February 2024)
 
 14 May 2024 – Durban
 ville (Cape Town)
 16 May 2024 – Umhlanga\, KZN
 23 May 2024 – Preto
 ria (CSIR)
 28 May 2024 – Webinar (Teams platform) (documentation via e
 mail)
 
 &nbsp\;
 Alta Swanepoel
 Alta Swanepoel and Associates CC
 O
 ffice cell phone number:&nbsp\; 067 147 3247
 E-mail: &nbsp\;&nbsp\;&nbsp
 \;&nbsp\;&nbsp\;&nbsp\;&nbsp\;&nbsp\;&nbsp\; altaswanepoel@mweb.co.za (Off
 ice)
 &nbsp\;&nbsp\;&nbsp\;&nbsp\;&nbsp\;&nbsp\;&nbsp\;&nbsp\;&nbsp\;&nbs
 p\;&nbsp\;&nbsp\;&nbsp\;&nbsp\;&nbsp\;&nbsp\;&nbsp\;&nbsp\;&nbsp\;&nbsp\;&
 nbsp\;&nbsp\;&nbsp\; admin@altaswanepoel.co.za (Workshops)
 &nbsp\;&nbsp\
 ;&nbsp\;&nbsp\;&nbsp\;&nbsp\;&nbsp\;&nbsp\;&nbsp\;&nbsp\;&nbsp\;&nbsp\;&nb
 sp\;&nbsp\;&nbsp\;&nbsp\;&nbsp\;&nbsp\;&nbsp\;&nbsp\;&nbsp\;&nbsp\;&nbsp\;
  alta@altaswanepoel.co.za (Alta Swanepoel)
 Website:&nbsp\;&nbsp\;&nbsp\;
 &nbsp\;&nbsp\;&nbsp\;&nbsp\; www.altaswanepoel.co.za
LOCATION:Meiring Naude Road\, Brummeria\, Pretoria
DTSTART:20240523T060000Z
DTEND:20240523T140000Z
DTSTAMP:20231214T042510Z
ORGANIZER;CN=Transport Forum:MAILTO:info@transportsig.com
END:VEVENT
END:VCALENDAR