BEGIN:VCALENDAR
VERSION:2.0
PRODID:Events Booking
BEGIN:VEVENT
UID:69e8b13a4c59e
SUMMARY:ANNUAL ROAD TRAFFIC AND TRANSPORT LEGISLATION WORKSHOPS 2024
DESCRIPTION:
LOCATION:Webinar
DTSTART:20240528T060000Z
DTEND:20240528T140000Z
DTSTAMP:20231214T042722Z
ORGANIZER;CN=Transport Forum:MAILTO:info@transportsig.com
END:VEVENT
END:VCALENDAR