BEGIN:VCALENDAR
VERSION:2.0
PRODID:Events Booking
BEGIN:VEVENT
UID:69e92a3b87b26
SUMMARY:Autonomous e-Mobility Forum
DESCRIPTION:
LOCATION:Qatar university
DTSTART:20231010T060000Z
DTEND:20231012T150000Z
DTSTAMP:20230809T145055Z
ORGANIZER;CN=Transport Forum:MAILTO:info@transportsig.com
END:VEVENT
END:VCALENDAR