BEGIN:VCALENDAR
VERSION:2.0
PRODID:Events Booking
BEGIN:VEVENT
UID:69e8d0b74c5fb
SUMMARY:Autonomy Paris
DESCRIPTION:
LOCATION:Paris
DTSTART:20240320T060000Z
DTEND:20240321T140000Z
DTSTAMP:20240130T201325Z
ORGANIZER;CN=Transport Forum:MAILTO:info@transportsig.com
END:VEVENT
END:VCALENDAR