BEGIN:VCALENDAR
VERSION:2.0
PRODID:Events Booking
BEGIN:VEVENT
UID:69e85ac2690bb
SUMMARY:Bentley Systems new webinar. Drainage design for road projects
DESCRIPTION:
LOCATION:Virtual
DTSTART:20241024T070000Z
DTEND:20241024T130000Z
DTSTAMP:20241022T171619Z
ORGANIZER;CN=Transport Forum:MAILTO:info@transportsig.com
END:VEVENT
END:VCALENDAR