BEGIN:VCALENDAR
VERSION:2.0
PRODID:Events Booking
BEGIN:VEVENT
UID:69e93e052883f
SUMMARY:Certified Professional Training: Introduction to Crash Investigatio
 n
DESCRIPTION:
LOCATION:Qatar university
DTSTART:20230910T060000Z
DTEND:20230912T140000Z
DTSTAMP:20230809T143203Z
ORGANIZER;CN=Transport Forum:MAILTO:info@transportsig.com
END:VEVENT
END:VCALENDAR