BEGIN:VCALENDAR
VERSION:2.0
PRODID:Events Booking
BEGIN:VEVENT
UID:69e8c1b715e33
SUMMARY:CILT Africa Annual Forum 2024
DESCRIPTION:
LOCATION:Zimbabwe
DTSTART:20240422T060000Z
DTEND:20240424T150000Z
DTSTAMP:20240229T104703Z
ORGANIZER;CN=Transport Forum:MAILTO:info@transportsig.com
END:VEVENT
END:VCALENDAR