BEGIN:VCALENDAR
VERSION:2.0
PRODID:Events Booking
BEGIN:VEVENT
UID:69e8b009e8570
SUMMARY:CILTSA Safety and Security Event
DESCRIPTION:
LOCATION:Woodmead\, Sandton
DTSTART:20240522T063000Z
DTEND:20240522T113000Z
DTSTAMP:20240331T131859Z
ORGANIZER;CN=Transport Forum:MAILTO:info@transportsig.com
END:VEVENT
END:VCALENDAR