BEGIN:VCALENDAR
VERSION:2.0
PRODID:Events Booking
BEGIN:VEVENT
UID:69e91a70b5004
SUMMARY:CILTSA Webinar on Artificial Intelligence and Digitalisation
DESCRIPTION:
LOCATION:Virtual
DTSTART:20231130T070000Z
DTEND:20231130T090000Z
DTSTAMP:20231003T033829Z
ORGANIZER;CN=Transport Forum:MAILTO:info@transportsig.com
END:VEVENT
END:VCALENDAR