BEGIN:VCALENDAR
VERSION:2.0
PRODID:Events Booking
BEGIN:VEVENT
UID:69e94f50bbb16
SUMMARY:ConPavStruc Conference 29/30 August 2023
DESCRIPTION:
LOCATION:Virtual
DTSTART:20230829T060000Z
DTEND:20230830T140000Z
DTSTAMP:20230809T144458Z
ORGANIZER;CN=Transport Forum:MAILTO:info@transportsig.com
END:VEVENT
END:VCALENDAR