BEGIN:VCALENDAR
VERSION:2.0
PRODID:Events Booking
BEGIN:VEVENT
UID:69e87bfb8f0d7
SUMMARY: Continental Trade and Transport Conference
DESCRIPTION:
LOCATION:Capital on the Park\, Sandton
DTSTART:20240801T053000Z
DTEND:20240801T143000Z
DTSTAMP:20240726T050710Z
ORGANIZER;CN=Transport Forum:MAILTO:info@transportsig.com
END:VEVENT
END:VCALENDAR