BEGIN:VCALENDAR
VERSION:2.0
PRODID:Events Booking
BEGIN:VEVENT
UID:69e93c971b6f1
SUMMARY:Crossing the Intersections- An Impoundments Discussion 
DESCRIPTION:
LOCATION:Crystal Towers in Century City
DTSTART:20230928T150000Z
DTEND:20230928T150500Z
DTSTAMP:20230925T045900Z
ORGANIZER;CN=Transport Forum:MAILTO:info@transportsig.com
END:VEVENT
END:VCALENDAR