BEGIN:VCALENDAR
VERSION:2.0
PRODID:Events Booking
BEGIN:VEVENT
UID:69e86c0cc7364
SUMMARY:DEVAC HYDROGEN-H INDABA
DESCRIPTION:
LOCATION:Hilton Hotel\, Sandton Johannesburg
DTSTART:20240918T043000Z
DTEND:20240919T143000Z
DTSTAMP:20240723T053530Z
ORGANIZER;CN=Transport Forum:MAILTO:info@transportsig.com
END:VEVENT
END:VCALENDAR