BEGIN:VCALENDAR
VERSION:2.0
PRODID:Events Booking
BEGIN:VEVENT
UID:69e962720d21d
SUMMARY:Discover the exceptional women in transport
DESCRIPTION:
LOCATION:Meiring Naude Road\, Brummeria\, Pretoria
DTSTART:20230710T060000Z
DTEND:20230713T140000Z
DTSTAMP:20230628T172812Z
ORGANIZER;CN=Transport Forum:MAILTO:info@transportsig.com
END:VEVENT
END:VCALENDAR